BEGIN:VCALENDAR
VERSION:2.0
PRODID:-//81.201.148.31//NONSGML kigkonsult.se iCalcreator 2.41.92//
CALSCALE:GREGORIAN
METHOD:PUBLISH
UID:36326161-6263-4135-a230-626139653635
X-WR-CALNAME:KOKOS IMPORT Theatertermine
X-WR-CALDESC:
X-WR-TIMEZONE:Europe/Berlin
BEGIN:VEVENT
UID:66666230-3866-4161-b066-633231643536
DTSTAMP:20260421T134340Z
DESCRIPTION:
DTSTART:20261209T193000
DTEND:20261209T210000
SUMMARY:Adventliches Orgelkonzert
END:VEVENT
END:VCALENDAR
