BEGIN:VCALENDAR
VERSION:2.0
PRODID:-//81.201.148.31//NONSGML kigkonsult.se iCalcreator 2.41.92//
CALSCALE:GREGORIAN
METHOD:PUBLISH
UID:39346239-3030-4266-b939-396136633637
X-WR-CALNAME:KOKOS IMPORT Theatertermine
X-WR-CALDESC:
X-WR-TIMEZONE:Europe/Berlin
BEGIN:VEVENT
UID:36313764-3131-4935-b631-373937386439
DTSTAMP:20260421T110159Z
DESCRIPTION:
DTSTART:20261216T193000
DTEND:20261216T210000
SUMMARY:Adventskonzert
END:VEVENT
END:VCALENDAR
