BEGIN:VCALENDAR
VERSION:2.0
PRODID:-//81.201.148.31//NONSGML kigkonsult.se iCalcreator 2.41.92//
CALSCALE:GREGORIAN
METHOD:PUBLISH
UID:31633063-3331-4134-b630-336462306365
X-WR-CALNAME:KOKOS IMPORT Theatertermine
X-WR-CALDESC:
X-WR-TIMEZONE:Europe/Berlin
BEGIN:VEVENT
UID:38653763-3966-4135-b631-633535653431
DTSTAMP:20260421T121139Z
DESCRIPTION:
DTSTART:20251219T200000
DTEND:20251219T213000
SUMMARY:Adventsliedersingen des Chores der Frauenkirche
END:VEVENT
END:VCALENDAR
