BEGIN:VCALENDAR
VERSION:2.0
PRODID:-//81.201.148.31//NONSGML kigkonsult.se iCalcreator 2.41.92//
CALSCALE:GREGORIAN
METHOD:PUBLISH
UID:32643734-3636-4865-a462-653238353465
X-WR-CALNAME:KOKOS IMPORT Theatertermine
X-WR-CALDESC:
X-WR-TIMEZONE:Europe/Berlin
BEGIN:VEVENT
UID:31653966-6533-4739-b461-623732356135
DTSTAMP:20260421T151001Z
DESCRIPTION:
DTSTART:20251220T193000
DTEND:20251220T210000
SUMMARY:Adventsliedersingen des Chores der Frauenkirche
END:VEVENT
END:VCALENDAR
