BEGIN:VCALENDAR
VERSION:2.0
PRODID:-//81.201.148.31//NONSGML kigkonsult.se iCalcreator 2.41.92//
CALSCALE:GREGORIAN
METHOD:PUBLISH
UID:37303365-3639-4732-a634-343461346338
X-WR-CALNAME:KOKOS IMPORT Theatertermine
X-WR-CALDESC:
X-WR-TIMEZONE:Europe/Berlin
BEGIN:VEVENT
UID:62303332-3461-4136-a632-303164616535
DTSTAMP:20260421T122056Z
DESCRIPTION:
DTSTART:20261222T200000
DTEND:20261222T213000
SUMMARY:Adventsliedersingen des Chores der Frauenkirche
END:VEVENT
END:VCALENDAR
