BEGIN:VCALENDAR
VERSION:2.0
PRODID:-//81.201.148.31//NONSGML kigkonsult.se iCalcreator 2.41.92//
CALSCALE:GREGORIAN
METHOD:PUBLISH
UID:32623365-6565-4331-a534-623830313834
X-WR-CALNAME:KOKOS IMPORT Theatertermine
X-WR-CALDESC:
X-WR-TIMEZONE:Europe/Berlin
BEGIN:VEVENT
UID:65636664-3334-4965-a336-343766343037
DTSTAMP:20260421T122704Z
DESCRIPTION:
DTSTART:20261223T193000
DTEND:20261223T210000
SUMMARY:Adventsliedersingen des Chores der Frauenkirche
END:VEVENT
END:VCALENDAR
