BEGIN:VCALENDAR
VERSION:2.0
PRODID:-//81.201.148.31//NONSGML kigkonsult.se iCalcreator 2.41.92//
CALSCALE:GREGORIAN
METHOD:PUBLISH
UID:39376333-6137-4439-a538-323438373030
X-WR-CALNAME:KOKOS IMPORT Theatertermine
X-WR-CALDESC:
X-WR-TIMEZONE:Europe/Berlin
BEGIN:VEVENT
UID:63646538-3838-4939-b735-336663306538
DTSTAMP:20260423T095150Z
DESCRIPTION:
DTSTART:20260118T180000
DTEND:20260118T190000
SUMMARY:Anglican Service
END:VEVENT
END:VCALENDAR
