BEGIN:VCALENDAR
VERSION:2.0
PRODID:-//81.201.148.31//NONSGML kigkonsult.se iCalcreator 2.41.92//
CALSCALE:GREGORIAN
METHOD:PUBLISH
UID:61626134-6235-4164-a562-623163616532
X-WR-CALNAME:KOKOS IMPORT Theatertermine
X-WR-CALDESC:
X-WR-TIMEZONE:Europe/Berlin
BEGIN:VEVENT
UID:63636236-3761-4332-b462-366233356334
DTSTAMP:20260419T113214Z
DESCRIPTION:
DTSTART:20260419T180000
DTEND:20260419T190000
SUMMARY:Anglican Service
END:VEVENT
END:VCALENDAR
