BEGIN:VCALENDAR
VERSION:2.0
PRODID:-//81.201.148.31//NONSGML kigkonsult.se iCalcreator 2.41.92//
CALSCALE:GREGORIAN
METHOD:PUBLISH
UID:66303035-6139-4538-a364-656364396434
X-WR-CALNAME:KOKOS IMPORT Theatertermine
X-WR-CALDESC:
X-WR-TIMEZONE:Europe/Berlin
BEGIN:VEVENT
UID:61346361-3630-4231-a661-373436363432
DTSTAMP:20260423T112612Z
DESCRIPTION:
DTSTART:20260517T180000
DTEND:20260517T190000
SUMMARY:Anglican Service
END:VEVENT
END:VCALENDAR
