BEGIN:VCALENDAR
VERSION:2.0
PRODID:-//81.201.148.31//NONSGML kigkonsult.se iCalcreator 2.41.92//
CALSCALE:GREGORIAN
METHOD:PUBLISH
UID:37646166-3831-4634-a230-366636323639
X-WR-CALNAME:KOKOS IMPORT Theatertermine
X-WR-CALDESC:
X-WR-TIMEZONE:Europe/Berlin
BEGIN:VEVENT
UID:61663234-6461-4363-a564-653930326338
DTSTAMP:20260423T094227Z
DESCRIPTION:
DTSTART:20260621T180000
DTEND:20260621T190000
SUMMARY:Anglican Service
END:VEVENT
END:VCALENDAR
