BEGIN:VCALENDAR
VERSION:2.0
PRODID:-//81.201.148.31//NONSGML kigkonsult.se iCalcreator 2.41.92//
CALSCALE:GREGORIAN
METHOD:PUBLISH
UID:30396431-3136-4661-b764-316163616664
X-WR-CALNAME:KOKOS IMPORT Theatertermine
X-WR-CALDESC:
X-WR-TIMEZONE:Europe/Berlin
BEGIN:VEVENT
UID:65363566-6230-4164-b463-393464383731
DTSTAMP:20260421T121821Z
DESCRIPTION:
DTSTART:20260512T193000
DTEND:20260512T213000
SUMMARY:Anne-Sophie Mutter
END:VEVENT
END:VCALENDAR
