BEGIN:VCALENDAR
VERSION:2.0
PRODID:-//81.201.148.31//NONSGML kigkonsult.se iCalcreator 2.41.92//
CALSCALE:GREGORIAN
METHOD:PUBLISH
UID:66383163-6163-4234-a537-303530326266
X-WR-CALNAME:KOKOS IMPORT Theatertermine
X-WR-CALDESC:
X-WR-TIMEZONE:Europe/Berlin
BEGIN:VEVENT
UID:61323830-3239-4133-a639-366331336364
DTSTAMP:20260421T062716Z
DESCRIPTION:
DTSTART:20261213T160000
DTEND:20261213T170000
SUMMARY:AUS DRESDEN – Renaissance-Weihnacht
END:VEVENT
END:VCALENDAR
