BEGIN:VCALENDAR
VERSION:2.0
PRODID:-//81.201.148.31//NONSGML kigkonsult.se iCalcreator 2.41.92//
CALSCALE:GREGORIAN
METHOD:PUBLISH
UID:64633663-6666-4164-b166-346136636336
X-WR-CALNAME:KOKOS IMPORT Theatertermine
X-WR-CALDESC:
X-WR-TIMEZONE:Europe/Berlin
BEGIN:VEVENT
UID:66343061-3563-4133-b564-643534636537
DTSTAMP:20260421T073537Z
DESCRIPTION:
DTSTART:20260503T160000
DTEND:20260503T170000
SUMMARY:BACH – Festliche Klänge
END:VEVENT
END:VCALENDAR
