BEGIN:VCALENDAR
VERSION:2.0
PRODID:-//81.201.148.31//NONSGML kigkonsult.se iCalcreator 2.41.92//
CALSCALE:GREGORIAN
METHOD:PUBLISH
UID:64366362-6336-4231-b736-396234303538
X-WR-CALNAME:KOKOS IMPORT Theatertermine
X-WR-CALDESC:
X-WR-TIMEZONE:Europe/Berlin
BEGIN:VEVENT
UID:62626139-6266-4466-b366-386564313534
DTSTAMP:20260421T194945Z
DESCRIPTION:
DTSTART:20261003T190000
DTEND:20261003T213000
SUMMARY:BACH – Messe in h-Moll
END:VEVENT
END:VCALENDAR
