BEGIN:VCALENDAR
VERSION:2.0
PRODID:-//81.201.148.31//NONSGML kigkonsult.se iCalcreator 2.41.92//
CALSCALE:GREGORIAN
METHOD:PUBLISH
UID:62623737-3239-4930-b163-363932323232
X-WR-CALNAME:KOKOS IMPORT Theatertermine
X-WR-CALDESC:
X-WR-TIMEZONE:Europe/Berlin
BEGIN:VEVENT
UID:34616632-3963-4461-b330-316138373863
DTSTAMP:20260421T225715Z
DESCRIPTION:
DTSTART:20261025T160000
DTEND:20261025T170000
SUMMARY:BACH – Missa in g
END:VEVENT
END:VCALENDAR
