BEGIN:VCALENDAR
VERSION:2.0
PRODID:-//81.201.148.31//NONSGML kigkonsult.se iCalcreator 2.41.92//
CALSCALE:GREGORIAN
METHOD:PUBLISH
UID:30353636-3837-4661-b563-323735323062
X-WR-CALNAME:KOKOS IMPORT Theatertermine
X-WR-CALDESC:
X-WR-TIMEZONE:Europe/Berlin
BEGIN:VEVENT
UID:39343336-3334-4131-a532-363930326232
DTSTAMP:20260421T060241Z
DESCRIPTION:
DTSTART:20260614T160000
DTEND:20260614T170000
SUMMARY:BACH – Missa in G
END:VEVENT
END:VCALENDAR
