BEGIN:VCALENDAR
VERSION:2.0
PRODID:-//81.201.148.31//NONSGML kigkonsult.se iCalcreator 2.41.92//
CALSCALE:GREGORIAN
METHOD:PUBLISH
UID:34353064-3238-4230-b433-323361303435
X-WR-CALNAME:KOKOS IMPORT Theatertermine
X-WR-CALDESC:
X-WR-TIMEZONE:Europe/Berlin
BEGIN:VEVENT
UID:64626133-3731-4763-b761-303336386335
DTSTAMP:20260421T085949Z
DESCRIPTION:
DTSTART:20261201T200000
DTEND:20261201T213000
SUMMARY:Bachs Orgelrecital 1736
END:VEVENT
END:VCALENDAR
