BEGIN:VCALENDAR
VERSION:2.0
PRODID:-//81.201.148.31//NONSGML kigkonsult.se iCalcreator 2.41.92//
CALSCALE:GREGORIAN
METHOD:PUBLISH
UID:39313532-3432-4331-b030-656435336139
X-WR-CALNAME:KOKOS IMPORT Theatertermine
X-WR-CALDESC:
X-WR-TIMEZONE:Europe/Berlin
BEGIN:VEVENT
UID:35333165-6135-4239-a264-353230653266
DTSTAMP:20260421T072807Z
DESCRIPTION:
DTSTART:20261122T160000
DTEND:20261122T170000
SUMMARY:BAROCK VOKAL
END:VEVENT
END:VCALENDAR
