BEGIN:VCALENDAR
VERSION:2.0
PRODID:-//81.201.148.31//NONSGML kigkonsult.se iCalcreator 2.41.92//
CALSCALE:GREGORIAN
METHOD:PUBLISH
UID:37363665-3266-4732-b531-643336343030
X-WR-CALNAME:KOKOS IMPORT Theatertermine
X-WR-CALDESC:
X-WR-TIMEZONE:Europe/Berlin
BEGIN:VEVENT
UID:35653337-6438-4662-b166-666530666139
DTSTAMP:20260421T194322Z
DESCRIPTION:
DTSTART:20260628T160000
DTEND:20260628T170000
SUMMARY:BAROCK VOKAL – Himmlische Stimme
END:VEVENT
END:VCALENDAR
