BEGIN:VCALENDAR
VERSION:2.0
PRODID:-//81.201.148.31//NONSGML kigkonsult.se iCalcreator 2.41.92//
CALSCALE:GREGORIAN
METHOD:PUBLISH
UID:63643731-6465-4661-b038-326363316566
X-WR-CALNAME:KOKOS IMPORT Theatertermine
X-WR-CALDESC:
X-WR-TIMEZONE:Europe/Berlin
BEGIN:VEVENT
UID:37386362-3962-4435-a562-626132643666
DTSTAMP:20260421T161154Z
DESCRIPTION:
DTSTART:20260823T160000
DTEND:20260823T170000
SUMMARY:BAROCKER GLANZ – Festliche Musik für zwei Trompeten und Orgel
END:VEVENT
END:VCALENDAR
