BEGIN:VCALENDAR
VERSION:2.0
PRODID:-//81.201.148.31//NONSGML kigkonsult.se iCalcreator 2.41.92//
CALSCALE:GREGORIAN
METHOD:PUBLISH
UID:33343563-6436-4465-b438-313431356239
X-WR-CALNAME:KOKOS IMPORT Theatertermine
X-WR-CALDESC:
X-WR-TIMEZONE:Europe/Berlin
BEGIN:VEVENT
UID:64356362-3737-4939-b237-333261323532
DTSTAMP:20260421T105617Z
DESCRIPTION:
DTSTART:20260513T200000
DTEND:20260513T213000
SUMMARY:Charakterköpfe
END:VEVENT
END:VCALENDAR
