BEGIN:VCALENDAR
VERSION:2.0
PRODID:-//81.201.148.31//NONSGML kigkonsult.se iCalcreator 2.41.92//
CALSCALE:GREGORIAN
METHOD:PUBLISH
UID:65346233-3864-4736-b636-333763393630
X-WR-CALNAME:KOKOS IMPORT Theatertermine
X-WR-CALDESC:
X-WR-TIMEZONE:Europe/Berlin
BEGIN:VEVENT
UID:32333139-3532-4833-b064-326461333834
DTSTAMP:20260421T222652Z
DESCRIPTION:
DTSTART:20261017T190000
DTEND:20261017T210000
SUMMARY:Chen Reiss | Jewish Chamber Orchestra Munich
END:VEVENT
END:VCALENDAR
