BEGIN:VCALENDAR
VERSION:2.0
PRODID:-//81.201.148.31//NONSGML kigkonsult.se iCalcreator 2.41.92//
CALSCALE:GREGORIAN
METHOD:PUBLISH
UID:35306362-6338-4566-b930-656461663837
X-WR-CALNAME:KOKOS IMPORT Theatertermine
X-WR-CALDESC:
X-WR-TIMEZONE:Europe/Berlin
BEGIN:VEVENT
UID:65663738-3336-4964-b631-346264653230
DTSTAMP:20260421T132901Z
DESCRIPTION:
DTSTART:20251225T200000
DTEND:20251225T210000
SUMMARY:Christmas Carols
END:VEVENT
END:VCALENDAR
