BEGIN:VCALENDAR
VERSION:2.0
PRODID:-//81.201.148.31//NONSGML kigkonsult.se iCalcreator 2.41.92//
CALSCALE:GREGORIAN
METHOD:PUBLISH
UID:36323362-3533-4263-b566-656461653061
X-WR-CALNAME:KOKOS IMPORT Theatertermine
X-WR-CALDESC:
X-WR-TIMEZONE:Europe/Berlin
BEGIN:VEVENT
UID:61313731-6266-4466-b732-356561366565
DTSTAMP:20260421T140201Z
DESCRIPTION:
DTSTART:20261225T200000
DTEND:20261225T213000
SUMMARY:Christmas Carols
END:VEVENT
END:VCALENDAR
