BEGIN:VCALENDAR
VERSION:2.0
PRODID:-//81.201.148.31//NONSGML kigkonsult.se iCalcreator 2.41.92//
CALSCALE:GREGORIAN
METHOD:PUBLISH
UID:32383638-3865-4932-b364-663837303830
X-WR-CALNAME:KOKOS IMPORT Theatertermine
X-WR-CALDESC:
X-WR-TIMEZONE:Europe/Berlin
BEGIN:VEVENT
UID:61383732-3564-4737-b363-643130356565
DTSTAMP:20260421T225329Z
DESCRIPTION:
DTSTART:20260717T193000
DTEND:20260717T213000
SUMMARY:Daniel Geiss | Neubrandenburger Philharmonie
END:VEVENT
END:VCALENDAR
