BEGIN:VCALENDAR
VERSION:2.0
PRODID:-//81.201.148.31//NONSGML kigkonsult.se iCalcreator 2.41.92//
CALSCALE:GREGORIAN
METHOD:PUBLISH
UID:66303935-3164-4237-b465-666232333839
X-WR-CALNAME:KOKOS IMPORT Theatertermine
X-WR-CALDESC:
X-WR-TIMEZONE:Europe/Berlin
BEGIN:VEVENT
UID:65356231-3238-4234-a462-623864613836
DTSTAMP:20260421T073500Z
DESCRIPTION:
DTSTART:20261120T193000
DTEND:20261120T210000
SUMMARY:DANIEL HOPE
END:VEVENT
END:VCALENDAR
