BEGIN:VCALENDAR
VERSION:2.0
PRODID:-//81.201.148.31//NONSGML kigkonsult.se iCalcreator 2.41.92//
CALSCALE:GREGORIAN
METHOD:PUBLISH
UID:34363964-6637-4261-b535-363638643532
X-WR-CALNAME:KOKOS IMPORT Theatertermine
X-WR-CALDESC:
X-WR-TIMEZONE:Europe/Berlin
BEGIN:VEVENT
UID:35343461-3735-4635-b232-393130393238
DTSTAMP:20260421T072746Z
DESCRIPTION:
DTSTART:20260912T190000
DTEND:20260912T210000
SUMMARY:Daniel Hope | Staatskapelle Halle
END:VEVENT
END:VCALENDAR
