BEGIN:VCALENDAR
VERSION:2.0
PRODID:-//81.201.148.31//NONSGML kigkonsult.se iCalcreator 2.41.92//
CALSCALE:GREGORIAN
METHOD:PUBLISH
UID:38666363-3966-4366-b363-336332313932
X-WR-CALNAME:KOKOS IMPORT Theatertermine
X-WR-CALDESC:
X-WR-TIMEZONE:Europe/Berlin
BEGIN:VEVENT
UID:64346636-6637-4762-b035-323535353630
DTSTAMP:20260421T073525Z
DESCRIPTION:
DTSTART:20261211T193000
DTEND:20261211T213000
SUMMARY:Daniel Hope | Zürcher Kammerorchester
END:VEVENT
END:VCALENDAR
