BEGIN:VCALENDAR
VERSION:2.0
PRODID:-//81.201.148.31//NONSGML kigkonsult.se iCalcreator 2.41.92//
CALSCALE:GREGORIAN
METHOD:PUBLISH
UID:37383464-3739-4035-b163-313331636130
X-WR-CALNAME:KOKOS IMPORT Theatertermine
X-WR-CALDESC:
X-WR-TIMEZONE:Europe/Berlin
BEGIN:VEVENT
UID:33656632-3735-4065-b063-366234316630
DTSTAMP:20260421T062215Z
DESCRIPTION:
DTSTART:20261212T150000
DTEND:20261212T170000
SUMMARY:Daniel Hope | Zürcher Kammerorchester
END:VEVENT
END:VCALENDAR
