BEGIN:VCALENDAR
VERSION:2.0
PRODID:-//81.201.148.31//NONSGML kigkonsult.se iCalcreator 2.41.92//
CALSCALE:GREGORIAN
METHOD:PUBLISH
UID:65386131-6531-4166-a636-643466326633
X-WR-CALNAME:KOKOS IMPORT Theatertermine
X-WR-CALDESC:
X-WR-TIMEZONE:Europe/Berlin
BEGIN:VEVENT
UID:32303866-6139-4437-b536-663462386663
DTSTAMP:20260421T194430Z
DESCRIPTION:
DTSTART:20260701T200000
DTEND:20260701T213000
SUMMARY:Das Sakrale in der Oper und die Oper im Sakralen
END:VEVENT
END:VCALENDAR
