BEGIN:VCALENDAR
VERSION:2.0
PRODID:-//81.201.148.31//NONSGML kigkonsult.se iCalcreator 2.41.92//
CALSCALE:GREGORIAN
METHOD:PUBLISH
UID:37376638-3832-4431-b366-616237393239
X-WR-CALNAME:KOKOS IMPORT Theatertermine
X-WR-CALDESC:
X-WR-TIMEZONE:Europe/Berlin
BEGIN:VEVENT
UID:62376636-6166-4462-a630-616339376235
DTSTAMP:20260421T130816Z
DESCRIPTION:
DTSTART:20260819T200000
DTEND:20260819T213000
SUMMARY:Deutsch-polnische Dialoge
END:VEVENT
END:VCALENDAR
