BEGIN:VCALENDAR
VERSION:2.0
PRODID:-//81.201.148.31//NONSGML kigkonsult.se iCalcreator 2.41.92//
CALSCALE:GREGORIAN
METHOD:PUBLISH
UID:30313162-3561-4730-a261-393939353734
X-WR-CALNAME:KOKOS IMPORT Theatertermine
X-WR-CALDESC:
X-WR-TIMEZONE:Europe/Berlin
BEGIN:VEVENT
UID:31323336-3538-4136-b139-613636333038
DTSTAMP:20260421T074545Z
DESCRIPTION:
DTSTART:20260509T190000
DTEND:20260509T203000
SUMMARY:Dies Irae – Tag des Zorns
END:VEVENT
END:VCALENDAR
