BEGIN:VCALENDAR
VERSION:2.0
PRODID:-//81.201.148.31//NONSGML kigkonsult.se iCalcreator 2.41.92//
CALSCALE:GREGORIAN
METHOD:PUBLISH
UID:35623936-6262-4331-b133-383666363962
X-WR-CALNAME:KOKOS IMPORT Theatertermine
X-WR-CALDESC:
X-WR-TIMEZONE:Europe/Berlin
BEGIN:VEVENT
UID:30386634-6430-4166-b065-656236386434
DTSTAMP:20260423T093826Z
DESCRIPTION:
DTSTART:20260305T180000
DTEND:20260305T190000
SUMMARY:Ecumenical Evening Prayer
END:VEVENT
END:VCALENDAR
