BEGIN:VCALENDAR
VERSION:2.0
PRODID:-//81.201.148.31//NONSGML kigkonsult.se iCalcreator 2.41.92//
CALSCALE:GREGORIAN
METHOD:PUBLISH
UID:34646666-6361-4264-b236-653766306234
X-WR-CALNAME:KOKOS IMPORT Theatertermine
X-WR-CALDESC:
X-WR-TIMEZONE:Europe/Berlin
BEGIN:VEVENT
UID:37663034-6135-4830-b335-616430373837
DTSTAMP:20260420T154704Z
DESCRIPTION:
DTSTART:20260507T180000
DTEND:20260507T190000
SUMMARY:Ecumenical Evening Prayer
END:VEVENT
END:VCALENDAR
