BEGIN:VCALENDAR
VERSION:2.0
PRODID:-//81.201.148.31//NONSGML kigkonsult.se iCalcreator 2.41.92//
CALSCALE:GREGORIAN
METHOD:PUBLISH
UID:66306362-6530-4764-a164-623236313765
X-WR-CALNAME:KOKOS IMPORT Theatertermine
X-WR-CALDESC:
X-WR-TIMEZONE:Europe/Berlin
BEGIN:VEVENT
UID:65313865-3261-4566-a364-646432623366
DTSTAMP:20260423T093849Z
DESCRIPTION:
DTSTART:20260604T180000
DTEND:20260604T190000
SUMMARY:Ecumenical Evening Prayer
END:VEVENT
END:VCALENDAR
