BEGIN:VCALENDAR
VERSION:2.0
PRODID:-//81.201.148.31//NONSGML kigkonsult.se iCalcreator 2.41.92//
CALSCALE:GREGORIAN
METHOD:PUBLISH
UID:39346537-3565-4431-a463-363966323866
X-WR-CALNAME:KOKOS IMPORT Theatertermine
X-WR-CALDESC:
X-WR-TIMEZONE:Europe/Berlin
BEGIN:VEVENT
UID:31656637-6533-4239-b339-343666353135
DTSTAMP:20260423T093908Z
DESCRIPTION:
DTSTART:20260702T180000
DTEND:20260702T190000
SUMMARY:Ecumenical Evening Prayer
END:VEVENT
END:VCALENDAR
