BEGIN:VCALENDAR
VERSION:2.0
PRODID:-//81.201.148.31//NONSGML kigkonsult.se iCalcreator 2.41.92//
CALSCALE:GREGORIAN
METHOD:PUBLISH
UID:62346665-3936-4534-a363-393835383762
X-WR-CALNAME:KOKOS IMPORT Theatertermine
X-WR-CALDESC:
X-WR-TIMEZONE:Europe/Berlin
BEGIN:VEVENT
UID:31363534-3464-4164-b565-363839663365
DTSTAMP:20260421T165448Z
DESCRIPTION:
DTSTART:20260603T200000
DTEND:20260603T213000
SUMMARY:Ein Brausen vom Himmel
END:VEVENT
END:VCALENDAR
