BEGIN:VCALENDAR
VERSION:2.0
PRODID:-//81.201.148.31//NONSGML kigkonsult.se iCalcreator 2.41.92//
CALSCALE:GREGORIAN
METHOD:PUBLISH
UID:35343337-3061-4031-b832-353533306238
X-WR-CALNAME:KOKOS IMPORT Theatertermine
X-WR-CALDESC:
X-WR-TIMEZONE:Europe/Berlin
BEGIN:VEVENT
UID:31643066-6163-4839-b064-326132323239
DTSTAMP:20260421T230554Z
DESCRIPTION:
DTSTART:20261028T200000
DTEND:20261028T213000
SUMMARY:Ein feste Burg ist unser Gott
END:VEVENT
END:VCALENDAR
