BEGIN:VCALENDAR
VERSION:2.0
PRODID:-//81.201.148.31//NONSGML kigkonsult.se iCalcreator 2.41.92//
CALSCALE:GREGORIAN
METHOD:PUBLISH
UID:62393964-3634-4033-b036-643536376230
X-WR-CALNAME:KOKOS IMPORT Theatertermine
X-WR-CALDESC:
X-WR-TIMEZONE:Europe/Berlin
BEGIN:VEVENT
UID:61336238-3662-4463-b861-643639636166
DTSTAMP:20260421T060252Z
DESCRIPTION:
DTSTART:20260613T190000
DTEND:20260613T203000
SUMMARY:Faszination Frauenkirche
END:VEVENT
END:VCALENDAR
