BEGIN:VCALENDAR
VERSION:2.0
PRODID:-//81.201.148.31//NONSGML kigkonsult.se iCalcreator 2.41.92//
CALSCALE:GREGORIAN
METHOD:PUBLISH
UID:32383761-6336-4239-b231-613930613232
X-WR-CALNAME:KOKOS IMPORT Theatertermine
X-WR-CALDESC:
X-WR-TIMEZONE:Europe/Berlin
BEGIN:VEVENT
UID:34663463-3134-4834-a566-613035623430
DTSTAMP:20260421T105326Z
DESCRIPTION:
DTSTART:20260516T190000
DTEND:20260516T203000
SUMMARY:Faszination Frauenkirche
END:VEVENT
END:VCALENDAR
