BEGIN:VCALENDAR
VERSION:2.0
PRODID:-//81.201.148.31//NONSGML kigkonsult.se iCalcreator 2.41.92//
CALSCALE:GREGORIAN
METHOD:PUBLISH
UID:66303362-6636-4632-b966-373139373335
X-WR-CALNAME:KOKOS IMPORT Theatertermine
X-WR-CALDESC:
X-WR-TIMEZONE:Europe/Berlin
BEGIN:VEVENT
UID:65373734-3663-4034-b264-323863373730
DTSTAMP:20260421T212253Z
DESCRIPTION:
DTSTART:20260704T190000
DTEND:20260704T203000
SUMMARY:Faszination Frauenkirche
END:VEVENT
END:VCALENDAR
