BEGIN:VCALENDAR
VERSION:2.0
PRODID:-//81.201.148.31//NONSGML kigkonsult.se iCalcreator 2.41.92//
CALSCALE:GREGORIAN
METHOD:PUBLISH
UID:33383032-3362-4130-b135-303830363330
X-WR-CALNAME:KOKOS IMPORT Theatertermine
X-WR-CALDESC:
X-WR-TIMEZONE:Europe/Berlin
BEGIN:VEVENT
UID:36663835-3636-4535-a236-663264633933
DTSTAMP:20260421T073340Z
DESCRIPTION:
DTSTART:20260725T190000
DTEND:20260725T203000
SUMMARY:Faszination Frauenkirche
END:VEVENT
END:VCALENDAR
