BEGIN:VCALENDAR
VERSION:2.0
PRODID:-//81.201.148.31//NONSGML kigkonsult.se iCalcreator 2.41.92//
CALSCALE:GREGORIAN
METHOD:PUBLISH
UID:32386533-6665-4536-a638-356436633638
X-WR-CALNAME:KOKOS IMPORT Theatertermine
X-WR-CALDESC:
X-WR-TIMEZONE:Europe/Berlin
BEGIN:VEVENT
UID:64616238-3032-4165-b835-346335373366
DTSTAMP:20260423T094859Z
DESCRIPTION:
DTSTART:20260524T110000
DTEND:20260524T123000
SUMMARY:Festgottesdienst
END:VEVENT
END:VCALENDAR
