BEGIN:VCALENDAR
VERSION:2.0
PRODID:-//81.201.148.31//NONSGML kigkonsult.se iCalcreator 2.41.92//
CALSCALE:GREGORIAN
METHOD:PUBLISH
UID:66313135-3765-4434-a132-646433376538
X-WR-CALNAME:KOKOS IMPORT Theatertermine
X-WR-CALDESC:
X-WR-TIMEZONE:Europe/Berlin
BEGIN:VEVENT
UID:61336564-3632-4638-b666-633831363133
DTSTAMP:20260423T095218Z
DESCRIPTION:
DTSTART:20260227T120000
DTEND:20260227T130000
SUMMARY:Friedenswort & Orgelklang
END:VEVENT
END:VCALENDAR
