BEGIN:VCALENDAR
VERSION:2.0
PRODID:-//81.201.148.31//NONSGML kigkonsult.se iCalcreator 2.41.92//
CALSCALE:GREGORIAN
METHOD:PUBLISH
UID:64636365-3462-4330-b934-663136373633
X-WR-CALNAME:KOKOS IMPORT Theatertermine
X-WR-CALDESC:
X-WR-TIMEZONE:Europe/Berlin
BEGIN:VEVENT
UID:38383163-3238-4163-a238-323638616164
DTSTAMP:20260423T105657Z
DESCRIPTION:
DTSTART:20260306T120000
DTEND:20260306T130000
SUMMARY:Friedenswort & Orgelklang
END:VEVENT
END:VCALENDAR
