BEGIN:VCALENDAR
VERSION:2.0
PRODID:-//81.201.148.31//NONSGML kigkonsult.se iCalcreator 2.41.92//
CALSCALE:GREGORIAN
METHOD:PUBLISH
UID:34633464-3136-4234-b036-326263316331
X-WR-CALNAME:KOKOS IMPORT Theatertermine
X-WR-CALDESC:
X-WR-TIMEZONE:Europe/Berlin
BEGIN:VEVENT
UID:65653466-3237-4262-b461-646563323163
DTSTAMP:20260421T084758Z
DESCRIPTION:
DTSTART:20260320T120000
DTEND:20260320T130000
SUMMARY:Friedenswort & Orgelklang
END:VEVENT
END:VCALENDAR
