BEGIN:VCALENDAR
VERSION:2.0
PRODID:-//81.201.148.31//NONSGML kigkonsult.se iCalcreator 2.41.92//
CALSCALE:GREGORIAN
METHOD:PUBLISH
UID:37336237-3264-4030-b133-656463363961
X-WR-CALNAME:KOKOS IMPORT Theatertermine
X-WR-CALDESC:
X-WR-TIMEZONE:Europe/Berlin
BEGIN:VEVENT
UID:38323663-3166-4138-b236-396531616663
DTSTAMP:20260420T154044Z
DESCRIPTION:
DTSTART:20260327T120000
DTEND:20260327T130000
SUMMARY:Friedenswort & Orgelklang
END:VEVENT
END:VCALENDAR
