BEGIN:VCALENDAR
VERSION:2.0
PRODID:-//81.201.148.31//NONSGML kigkonsult.se iCalcreator 2.41.92//
CALSCALE:GREGORIAN
METHOD:PUBLISH
UID:61616564-6234-4931-a139-643338663630
X-WR-CALNAME:KOKOS IMPORT Theatertermine
X-WR-CALDESC:
X-WR-TIMEZONE:Europe/Berlin
BEGIN:VEVENT
UID:32353331-3737-4634-a565-356231636132
DTSTAMP:20260421T100202Z
DESCRIPTION:
DTSTART:20260410T120000
DTEND:20260410T130000
SUMMARY:Friedenswort & Orgelklang
END:VEVENT
END:VCALENDAR
