BEGIN:VCALENDAR
VERSION:2.0
PRODID:-//81.201.148.31//NONSGML kigkonsult.se iCalcreator 2.41.92//
CALSCALE:GREGORIAN
METHOD:PUBLISH
UID:61303439-3737-4535-a532-363466653535
X-WR-CALNAME:KOKOS IMPORT Theatertermine
X-WR-CALDESC:
X-WR-TIMEZONE:Europe/Berlin
BEGIN:VEVENT
UID:64633531-6339-4638-b764-363730633838
DTSTAMP:20260421T201543Z
DESCRIPTION:
DTSTART:20260417T120000
DTEND:20260417T130000
SUMMARY:Friedenswort & Orgelklang
END:VEVENT
END:VCALENDAR
