BEGIN:VCALENDAR
VERSION:2.0
PRODID:-//81.201.148.31//NONSGML kigkonsult.se iCalcreator 2.41.92//
CALSCALE:GREGORIAN
METHOD:PUBLISH
UID:30663363-3136-4365-b865-663261383661
X-WR-CALNAME:KOKOS IMPORT Theatertermine
X-WR-CALDESC:
X-WR-TIMEZONE:Europe/Berlin
BEGIN:VEVENT
UID:38326162-3333-4837-b230-386463363366
DTSTAMP:20260421T014914Z
DESCRIPTION:
DTSTART:20260515T120000
DTEND:20260515T130000
SUMMARY:Friedenswort & Orgelklang
END:VEVENT
END:VCALENDAR
